BEGIN:VCALENDAR
VERSION:2.0
PRODID:-//ChamberMaster//Event Calendar 2.0//EN
METHOD:PUBLISH
X-PUBLISHED-TTL:P3D
REFRESH-INTERVAL:P3D
CALSCALE:GREGORIAN
BEGIN:VEVENT
DTSTART:20200131T230000Z
DTEND:20200131T230000Z
X-MICROSOFT-CDO-ALLDAYEVENT:FALSE
SUMMARY:Spring Seedling Workshop
DESCRIPTION:Join Merlin Graber as he leads you step by step from planting medium choice and preparation to seed selection to care and feeding of your new seedlings. Suggested $15 donation *RSVP required.
X-ALT-DESC;FMTTYPE=text/html:Join Merlin Graber as he leads you step by step from planting medium choice and preparation to seed selection to care and feeding of your new seedlings. Suggested $15 donation *RSVP required.&nbsp\;
LOCATION:2001 E. Cherry St\, on the South side of the Plant City HCC Campus
UID:e.2462.10747
SEQUENCE:3
DTSTAMP:20260420T060719Z
URL:http://plantcity.chambermaster.com/events/details/spring-seedling-workshop-10747
END:VEVENT

END:VCALENDAR
